BEGIN:VCALENDAR
VERSION:2.0
PRODID:-//INTENSIVkinder zuhause e.V. - Gemeinsam sind wir stark! - ECPv4.9.7//NONSGML v1.0//EN
CALSCALE:GREGORIAN
METHOD:PUBLISH
X-WR-CALNAME:INTENSIVkinder zuhause e.V. - Gemeinsam sind wir stark!
X-ORIGINAL-URL:https://intensivkinder.de
X-WR-CALDESC:Veranstaltungen im INTENSIVkinder zuhause e.V. - Gemeinsam sind wir stark!
BEGIN:VTIMEZONE
TZID:"Europe/Berlin"
BEGIN:DAYLIGHT
TZOFFSETFROM:+0100
TZOFFSETTO:+0200
TZNAME:CEST
DTSTART:20170326T010000
END:DAYLIGHT
BEGIN:STANDARD
TZOFFSETFROM:+0200
TZOFFSETTO:+0100
TZNAME:CET
DTSTART:20171029T010000
END:STANDARD
END:VTIMEZONE
BEGIN:VEVENT
DTSTART;TZID="Europe/Berlin":20171130T190000
DTEND;TZID="Europe/Berlin":20171130T210000
DTSTAMP:20260423T174918
CREATED:20190419T175931Z
LAST-MODIFIED:20230303T190333Z
UID:4029-1512068400-1512075600@intensivkinder.de
SUMMARY:Treffen "Wohnform in Hamburg"
DESCRIPTION:Drin­gende Anmel­dung bei Swantje Rüß (regio-​schleswig@​intensivkinder.​de).\nFür inter­es­sierte Eltern von beatme­ten oder tracheo­to­mier­ten Jugend­li­chen und Erwachsenen. \n
URL:https://intensivkinder.de/termin/treffen-wohnform-in-hamburg/
LOCATION:ASBH-Hamburg\, Paul-Stritter-Weg 7\, Hamburg\, 22297
ATTACH;FMTTYPE=image/jpeg:https://intensivkinder.de/wp-content/uploads/2019/02/standardbild-intensivkinder.jpg
END:VEVENT
END:VCALENDAR