BEGIN:VCALENDAR
VERSION:2.0
PRODID:-//INTENSIVkinder zuhause e.V. - Gemeinsam sind wir stark! - ECPv4.9.7//NONSGML v1.0//EN
CALSCALE:GREGORIAN
METHOD:PUBLISH
X-WR-CALNAME:INTENSIVkinder zuhause e.V. - Gemeinsam sind wir stark!
X-ORIGINAL-URL:https://intensivkinder.de
X-WR-CALDESC:Veranstaltungen im INTENSIVkinder zuhause e.V. - Gemeinsam sind wir stark!
BEGIN:VTIMEZONE
TZID:"Europe/Berlin"
BEGIN:DAYLIGHT
TZOFFSETFROM:+0100
TZOFFSETTO:+0200
TZNAME:CEST
DTSTART:20250330T010000
END:DAYLIGHT
BEGIN:STANDARD
TZOFFSETFROM:+0200
TZOFFSETTO:+0100
TZNAME:CET
DTSTART:20251026T010000
END:STANDARD
END:VTIMEZONE
BEGIN:VEVENT
DTSTART;VALUE=DATE:20251114
DTEND;VALUE=DATE:20251117
DTSTAMP:20260425T123245
CREATED:20250602T103412Z
LAST-MODIFIED:20260320T103843Z
UID:6593-1763078400-1763337599@intensivkinder.de
SUMMARY:Mütterseminar „Für immer Mama – Teil 2“
DESCRIPTION:Mütter­se­mi­nar „Für immer Mama – Teil 2“\n(gewalt­freie) Kommu­ni­ka­tion und Gren­zen setzen\nSeminar-Wochenende 14.11. bis 16.11.2025\nIm Hotel Munte am Stadt­wald\, Park­al­lee 299\, 28613 Bremen\nMütter sind gefühlt immer da. Sie kümmern sich\, sie machen & tun und haben alles im Blick. Sie haben eine ganz beson­dere Bindung zu ihren Kindern\, einfach weil sie eine Zeit lang körper­lich­ver­bun­den waren. Auch wenn Männer mitt­ler­weile mehr Verant­wor­tung in Fami­lie und Haus­halt über­neh­men\, so sind es doch letzt­lich nach wie vor die Mütter\, die die Haupt­last der Pflege und der Verant­wor­tung tragen und über­neh­men. Wie kann das Loslas­sen eines Kindes\, bei dem Lebens­ge­fahr immer mitschwingt und unter­be­wusst ein Thema ist\, über­haupt gestal­tet werden. \nAnkün­di­gung und Programm im Info­blatt [PDF\, 117KB]\nEinla­dung zum Mütter­se­mi­nar 2025 [PDF\, 144KB] \n
URL:https://intensivkinder.de/termin/muetterseminar-fuer-immer-mama-teil-2/
CATEGORIES:Mütterseminar
ATTACH;FMTTYPE=image/jpeg:https://intensivkinder.de/wp-content/uploads/2026/03/Muetterseminar-2025-Grafik.jpg
END:VEVENT
END:VCALENDAR