BEGIN:VCALENDAR
VERSION:2.0
PRODID:-//INTENSIVkinder zuhause e.V. - Gemeinsam sind wir stark! - ECPv4.9.7//NONSGML v1.0//EN
CALSCALE:GREGORIAN
METHOD:PUBLISH
X-WR-CALNAME:INTENSIVkinder zuhause e.V. - Gemeinsam sind wir stark!
X-ORIGINAL-URL:https://intensivkinder.de
X-WR-CALDESC:Veranstaltungen im INTENSIVkinder zuhause e.V. - Gemeinsam sind wir stark!
BEGIN:VTIMEZONE
TZID:"Europe/Berlin"
BEGIN:DAYLIGHT
TZOFFSETFROM:+0100
TZOFFSETTO:+0200
TZNAME:CEST
DTSTART:20200329T010000
END:DAYLIGHT
BEGIN:STANDARD
TZOFFSETFROM:+0200
TZOFFSETTO:+0100
TZNAME:CET
DTSTART:20201025T010000
END:STANDARD
END:VTIMEZONE
BEGIN:VEVENT
DTSTART;TZID="Europe/Berlin":20200321T080000
DTEND;TZID="Europe/Berlin":20200321T170000
DTSTAMP:20260423T180456
CREATED:20200203T132555Z
LAST-MODIFIED:20230303T190333Z
UID:4859-1584777600-1584810000@intensivkinder.de
SUMMARY:Ein Tag nur für uns: pflegende Mütter treffen sich in Goslar
DESCRIPTION:Nähere Infor­ma­tio­nen zu diesem Termin finden sie in der Einla­dung  [PDF\, 94KB] \nKontakt:\nBeate Leisner\nleisner.​nds@​intensivkinder.​de \nAnmel­dun­gen ab sofort bitte ausschließ­lich per Mail an mich. \n
URL:https://intensivkinder.de/termin/ein-tag-nur-fuer-uns-pflegende-muetter-treffen-sich-in-goslar/
ATTACH;FMTTYPE=image/jpeg:https://intensivkinder.de/wp-content/uploads/2020/02/int-nds-logo.jpg
END:VEVENT
END:VCALENDAR