BEGIN:VCALENDAR
VERSION:2.0
PRODID:-//INTENSIVkinder zuhause e.V. - Gemeinsam sind wir stark! - ECPv4.9.7//NONSGML v1.0//EN
CALSCALE:GREGORIAN
METHOD:PUBLISH
X-WR-CALNAME:INTENSIVkinder zuhause e.V. - Gemeinsam sind wir stark!
X-ORIGINAL-URL:https://intensivkinder.de
X-WR-CALDESC:Veranstaltungen im INTENSIVkinder zuhause e.V. - Gemeinsam sind wir stark!
BEGIN:VTIMEZONE
TZID:"Europe/Berlin"
BEGIN:DAYLIGHT
TZOFFSETFROM:+0100
TZOFFSETTO:+0200
TZNAME:CEST
DTSTART:20240331T010000
END:DAYLIGHT
BEGIN:STANDARD
TZOFFSETFROM:+0200
TZOFFSETTO:+0100
TZNAME:CET
DTSTART:20241027T010000
END:STANDARD
END:VTIMEZONE
BEGIN:VEVENT
DTSTART;TZID="Europe/Berlin":20240309T160000
DTEND;TZID="Europe/Berlin":20240309T173000
DTSTAMP:20260423T211907
CREATED:20240302T095054Z
LAST-MODIFIED:20241017T102834Z
UID:6338-1710000000-1710005400@intensivkinder.de
SUMMARY:Digital-Schnack Spezial mit Josi Otto
DESCRIPTION:\nThema: Selbst­be­stimmt im Alltag mit Assis­tenz oder Pflege\n \nWir freuen uns\, dass wir Josi Otto als Refe­ren­tin für den Digital-Schnack gewin­nen konn­ten! Mit ihr gemein­sam wollen wir über das Thema selbst­be­stimm­tes Leben mit Assis­tenz oder Pflege spre­chen. So sehr wir uns für unsere Kinder ein Leben mit hohem Maß an Selbst­be­stim­mung wünschen\, erle­ben wir als Eltern junger oder auch erwach­se­ner INTENSIV­kinder oft auch Heraus­for­de­run­gen und Hürden – viel­leicht umso mehr\, je häufi­ger die „Profis“ ausfal­len und wir selbst über­neh­men müssen. Josi gibt uns Gele­gen­heit\, die Perspek­tive zu wech­seln\, indem sie uns von ihren Erfah­run­gen berichtet.\n \nViele kennen Josi Otto von persön­li­chen Begeg­nun­gen oder von Insta­gramm. Sie ist 25 Jahre alt und lebt seit vielen Jahren mit Trache­al­ka­nüle und Beatmung. Josi ist freie Mitar­bei­te­rin der Univer­si­tät Biele­feld\, enga­giert sich für Rechte von Menschen mit Behin­de­rung und fährt sehr gerne mit der Bahn. Darüber berich­tet sie immer wieder auf social media.\n \nWir freuen uns\, Eure Gedan­ken zum Thema Selbst­be­stim­mung zu hören. Lasst uns gemein­sam über­le­gen\, wie es gelin­gen kann\, trotz der ange­spann­ten Versor­gungs­si­tua­tion die Bedürf­nisse aller Betei­lig­ten gut zu berücksichtigen.\n\n \nAnmel­dung an sarah.​rodenbusch@​intensivkinder.​de\n
URL:https://intensivkinder.de/termin/digital-schnack-spezial-mit-josi-otto/
CATEGORIES:Zoom-Meeting
ATTACH;FMTTYPE=image/jpeg:https://intensivkinder.de/wp-content/uploads/2023/11/zoom.jpg
END:VEVENT
END:VCALENDAR