BEGIN:VCALENDAR
VERSION:2.0
PRODID:-//INTENSIVkinder zuhause e.V. - Gemeinsam sind wir stark! - ECPv4.9.7//NONSGML v1.0//EN
CALSCALE:GREGORIAN
METHOD:PUBLISH
X-WR-CALNAME:INTENSIVkinder zuhause e.V. - Gemeinsam sind wir stark!
X-ORIGINAL-URL:https://intensivkinder.de
X-WR-CALDESC:Veranstaltungen im INTENSIVkinder zuhause e.V. - Gemeinsam sind wir stark!
BEGIN:VTIMEZONE
TZID:"Europe/Berlin"
BEGIN:DAYLIGHT
TZOFFSETFROM:+0100
TZOFFSETTO:+0200
TZNAME:CEST
DTSTART:20230326T010000
END:DAYLIGHT
BEGIN:STANDARD
TZOFFSETFROM:+0200
TZOFFSETTO:+0100
TZNAME:CET
DTSTART:20231029T010000
END:STANDARD
END:VTIMEZONE
BEGIN:VEVENT
DTSTART;TZID="Europe/Berlin":20231001T110000
DTEND;TZID="Europe/Berlin":20231001T130000
DTSTAMP:20260424T071901
CREATED:20230612T184042Z
LAST-MODIFIED:20230923T093430Z
UID:6127-1696158000-1696165200@intensivkinder.de
SUMMARY:Digital-Schnack -  Verordnung Außerklinische Intensivpflege (AKI)
DESCRIPTION:Digital-Schnack \nThema: Neue Verord­nungs­vor­dru­cke für die Außer­kli­ni­sche Inten­siv­pflege nach GKV-IPReG\, § 37c SGB V\, erset­zen spätes­tens zum 31.10.23 die Verord­nung über Häus­li­che Kran­ken­pflege nach § 37c SGB V. Wir stel­len die neuen Form­blät­ter 62 a\, b und c (Poten­zi­al­erhe­bung\, Verord­nung\, Behand­lungs­plan) vor und geben Hinweise zum Kontext der gesetz­li­chen Neue­run­gen. Die Veran­stal­tung ist eben­falls für Fami­lien wich­tig\, deren Kinder weder beatmet noch trache­al­ka­nü­liert sind und deren Verord­nung bisher über die Verord­nun­gen über Häus­li­che Kran­ken­pflege lief. \nDiese Veran­stal­tung rich­tet sich ausschließ­lich an Mitglie­der und betrof­fene Familien! \nAnmel­dung: sarah.​rodenbusch@​intensivkinder.​de  \n
URL:https://intensivkinder.de/termin/digital-schnack-11/
CATEGORIES:Zoom-Meeting
ATTACH;FMTTYPE=image/jpeg:https://intensivkinder.de/wp-content/uploads/2019/02/standardbild-intensivkinder.jpg
END:VEVENT
END:VCALENDAR